BEGIN:VCALENDAR
VERSION:2.0
PRODID:-//Tukios.com/
BEGIN:VEVENT
UID:3c0649c9-41f1-41da-a765-f032677a6647@obituaries.roedermortuary.com
DTSTAMP:20260420T021618Z
DTSTART:20260426T190000Z
DTEND:20260426T213000Z
SUMMARY:Celebration of Life
DESCRIPTION:
URL:https://obituaries.roedermortuary.com/kathleen-kathy-menard-schnieder
LOCATION:Rivers Edge Pavilion 4250 Rivers Edge Parkway  Council Bluffs IA 
	51501
GEO:41.2629099;-95.9168335
END:VEVENT
END:VCALENDAR