BEGIN:VCALENDAR
VERSION:2.0
PRODID:-//Tukios.com/
BEGIN:VEVENT
UID:297afe0a-3728-4c52-b4d7-d7b55a0087ff@obituaries.roedermortuary.com
DTSTAMP:20260421T234213Z
DTSTART:20260501T170000Z
DTEND:20260501T180000Z
SUMMARY:Luncheon
DESCRIPTION:
URL:https://obituaries.roedermortuary.com/gary-ahlstrom
LOCATION:American Legion Millard Post 374 13913 S St  Omaha NE 68137
GEO:41.2022406;-96.1316423
END:VEVENT
END:VCALENDAR