BEGIN:VCALENDAR
VERSION:2.0
PRODID:-//Tukios.com/
BEGIN:VEVENT
UID:df03414d-7bd5-4cb6-baa4-83c0f968bc82@obituaries.roedermortuary.com
DTSTAMP:20260421T234213Z
DTSTART:20260501T160000Z
DTEND:20260501T170000Z
SUMMARY:Memorial Service
DESCRIPTION:
URL:https://obituaries.roedermortuary.com/gary-ahlstrom
LOCATION: 2727 N 108th Street  Omaha NE 68164
GEO:41.2836665;-96.0804136
END:VEVENT
END:VCALENDAR