BEGIN:VCALENDAR
VERSION:2.0
PRODID:-//Tukios.com/
BEGIN:VEVENT
UID:a7407779-ea61-409e-b6fd-ce220a81a58e@obituaries.roedermortuary.com
DTSTAMP:20260421T211511Z
DTSTART:20260424T160000Z
DTEND:20260424T170000Z
SUMMARY:Funeral Service
DESCRIPTION:
URL:https://obituaries.roedermortuary.com/diane-janda
LOCATION:Timothy Lutheran Church 3112 West Broadway  Council Bluffs IA 
	51501
GEO:41.2622141;-95.8946551
END:VEVENT
END:VCALENDAR