BEGIN:VCALENDAR
VERSION:2.0
PRODID:-//Tukios.com/
BEGIN:VEVENT
UID:c9d0aae7-fc13-4aa6-91fc-a1f6dc3fa551@obituaries.roedermortuary.com
DTSTAMP:20260421T211231Z
DTSTART:20260424T150000Z
DTEND:20260424T160000Z
SUMMARY:Visitation
DESCRIPTION:
URL:https://obituaries.roedermortuary.com/diane-janda
LOCATION:Timothy Lutheran Church 3112 West Broadway  Council Bluffs IA 
	51501
GEO:41.2622141;-95.8946551
END:VEVENT
END:VCALENDAR